BEGIN:VCALENDAR
VERSION:2.0
PRODID:-//Cottage Grove Travel - ECPv6.15.17.1//NONSGML v1.0//EN
CALSCALE:GREGORIAN
METHOD:PUBLISH
X-WR-CALNAME:Cottage Grove Travel
X-ORIGINAL-URL:https://travelcottagegrove.com
X-WR-CALDESC:Events for Cottage Grove Travel
REFRESH-INTERVAL;VALUE=DURATION:PT1H
X-Robots-Tag:noindex
X-PUBLISHED-TTL:PT1H
BEGIN:VTIMEZONE
TZID:UTC
BEGIN:STANDARD
TZOFFSETFROM:+0000
TZOFFSETTO:+0000
TZNAME:UTC
DTSTART:20230101T000000
END:STANDARD
END:VTIMEZONE
BEGIN:VEVENT
DTSTART;TZID=UTC:20241012T110000
DTEND;TZID=UTC:20241012T150000
DTSTAMP:20260419T123450
CREATED:20240605T161121Z
LAST-MODIFIED:20240605T161138Z
UID:10000023-1728730800-1728745200@travelcottagegrove.com
SUMMARY:Village of Cottage Grove Centennial Celebration
DESCRIPTION:Celebrate the rich history of our Village with us this fall. On Saturday\, October 12th from 11:00 to 3:00 we will be hosting a Village-wide block party on Reynolds Street commemorating 100 years. FREE admission & all are welcome! Food trucks\, vintage tractors\, music\, balloons and cake! Stop in at Outpost\, 1855 Saloon & Grill or Olde Town Coffee for a bite to eat too! Flynn Hall will be open and the Cottage Grove Area Historical Society will have history on display!
URL:https://travelcottagegrove.com/event/village-of-cottage-grove-centennial-celebration/
LOCATION:Flynn Hall\, 116 W Reynolds Street\, Cottage Grove\, 53527
ATTACH;FMTTYPE=image/jpeg:https://travelcottagegrove.com/wp-content/uploads/2024/06/Cottage-Grove-100-Year-Flyer.jpg
END:VEVENT
END:VCALENDAR